BEGIN:VCALENDAR
VERSION:2.0
PRODID:-//Highland Creek Community Association - ECPv6.15.13.1//NONSGML v1.0//EN
CALSCALE:GREGORIAN
METHOD:PUBLISH
X-ORIGINAL-URL:https://myhighlandcreek.org
X-WR-CALDESC:Events for Highland Creek Community Association
REFRESH-INTERVAL;VALUE=DURATION:PT1H
X-Robots-Tag:noindex
X-PUBLISHED-TTL:PT1H
BEGIN:VTIMEZONE
TZID:America/Toronto
BEGIN:DAYLIGHT
TZOFFSETFROM:-0500
TZOFFSETTO:-0400
TZNAME:EDT
DTSTART:20240310T070000
END:DAYLIGHT
BEGIN:STANDARD
TZOFFSETFROM:-0400
TZOFFSETTO:-0500
TZNAME:EST
DTSTART:20241103T060000
END:STANDARD
BEGIN:DAYLIGHT
TZOFFSETFROM:-0500
TZOFFSETTO:-0400
TZNAME:EDT
DTSTART:20250309T070000
END:DAYLIGHT
BEGIN:STANDARD
TZOFFSETFROM:-0400
TZOFFSETTO:-0500
TZNAME:EST
DTSTART:20251102T060000
END:STANDARD
BEGIN:DAYLIGHT
TZOFFSETFROM:-0500
TZOFFSETTO:-0400
TZNAME:EDT
DTSTART:20260308T070000
END:DAYLIGHT
BEGIN:STANDARD
TZOFFSETFROM:-0400
TZOFFSETTO:-0500
TZNAME:EST
DTSTART:20261101T060000
END:STANDARD
END:VTIMEZONE
BEGIN:VEVENT
DTSTART;TZID=America/Toronto:20250503T103000
DTEND;TZID=America/Toronto:20250503T113000
DTSTAMP:20260422T094433
CREATED:20250227T213618Z
LAST-MODIFIED:20250227T213618Z
UID:657-1746268200-1746271800@myhighlandcreek.org
SUMMARY:TPL Literary Loopers
DESCRIPTION:Join us on the 1st Saturday of each month and knit or crochet with a friendly group! You can also share your projects and exchange helpful tips and techniques with others! Whether you’re new to knitting\, crocheting or an experienced crafter\, bring your work and join us for a relaxing time of creativity and conversation. All skill levels are welcome and must bring your own needles\, crochet hooks and yarn. \n**Note this is not a program where formal instructions are given** \nNo registration required\, just drop-in.
URL:https://myhighlandcreek.org/event/tpl-literary-loopers-2/
LOCATION:Toronto Public Library – Highland Creek Branch\, 3550 Ellesmere Rd\, Scarborough\, Ontario\, M1C 3Z2\, Canada
CATEGORIES:Creative,Toronto Public Library
ATTACH;FMTTYPE=image/jpeg:https://myhighlandcreek.org/wp-content/uploads/2025/02/literary-loopers.jpg
END:VEVENT
BEGIN:VEVENT
DTSTART;TZID=America/Toronto:20250509T140000
DTEND;TZID=America/Toronto:20250509T150000
DTSTAMP:20260422T094433
CREATED:20250417T192347Z
LAST-MODIFIED:20250417T192347Z
UID:826-1746799200-1746802800@myhighlandcreek.org
SUMMARY:Book Club
DESCRIPTION:Highland Creek Friday Afternoon Book Club at the Libary. \nJoin us on the second Friday of the month from 2-3pm to discuss books in a fun and friendly atmosphere. Members can place their own holds or ask Staff for a copy of the book.
URL:https://myhighlandcreek.org/event/book-club/
LOCATION:Toronto Public Library – Highland Creek Branch\, 3550 Ellesmere Rd\, Scarborough\, Ontario\, M1C 3Z2\, Canada
CATEGORIES:Toronto Public Library
ATTACH;FMTTYPE=image/jpeg:https://myhighlandcreek.org/wp-content/uploads/2025/04/Book_Club_portrait_cropped_600x740_C6743649FE734D88ADC1FDDA5D66B13B.jpg
END:VEVENT
BEGIN:VEVENT
DTSTART;TZID=America/Toronto:20250510T140000
DTEND;TZID=America/Toronto:20250510T160000
DTSTAMP:20260422T094433
CREATED:20250417T192528Z
LAST-MODIFIED:20250417T192528Z
UID:829-1746885600-1746892800@myhighlandcreek.org
SUMMARY:Intro to Dungeons & Dragons for Adults
DESCRIPTION:Calling all adventurers! \nCome heed the call and learn the basics of Dungeons & Dragons. Learn the ins and outs of one of the worlds most popular Tabletop Roleplaying Games. \nNo experience required\, this is an absolute beginner friendly event. \nNo need to bring characters or character sheets. Pre-generated characters will be provided. \nThis program is intended for an adult audience. \nSpace is limited\, please visit or call the Highland Creek Branch at 416-396-8876 to register.
URL:https://myhighlandcreek.org/event/intro-to-dungeons-dragons-for-adults/
LOCATION:Toronto Public Library – Highland Creek Branch\, 3550 Ellesmere Rd\, Scarborough\, Ontario\, M1C 3Z2\, Canada
CATEGORIES:Games,Toronto Public Library
ATTACH;FMTTYPE=image/jpeg:https://myhighlandcreek.org/wp-content/uploads/2025/04/dnd-tiamat-5e-fight-2304474400.jpg
END:VEVENT
BEGIN:VEVENT
DTSTART;TZID=America/Toronto:20250531T110000
DTEND;TZID=America/Toronto:20250531T120000
DTSTAMP:20260422T094433
CREATED:20250227T212733Z
LAST-MODIFIED:20250417T192126Z
UID:651-1748689200-1748692800@myhighlandcreek.org
SUMMARY:Pokemon Club at the TPL
DESCRIPTION:For Children ages 6-12. \nCome take part in a fun scavenger hunt across the library. Engage with staff and find out where all your favourite pokemon are hiding. \nSuccessful scavengers will get to choose one pokemon card to take home with them. (One card per child) \nColouring pages\, and 3D Printing technology will be on display as well.
URL:https://myhighlandcreek.org/event/pokemon-club-at-the-tpl-2/
LOCATION:Toronto Public Library – Highland Creek Branch\, 3550 Ellesmere Rd\, Scarborough\, Ontario\, M1C 3Z2\, Canada
CATEGORIES:Kids,Toronto Public Library
ATTACH;FMTTYPE=image/jpeg:https://myhighlandcreek.org/wp-content/uploads/2025/02/pokemon-card-scaled.jpg
END:VEVENT
END:VCALENDAR