BEGIN:VCALENDAR
VERSION:2.0
PRODID:-//Highland Creek Community Association - ECPv6.15.13.1//NONSGML v1.0//EN
CALSCALE:GREGORIAN
METHOD:PUBLISH
X-WR-CALNAME:Highland Creek Community Association
X-ORIGINAL-URL:https://myhighlandcreek.org
X-WR-CALDESC:Events for Highland Creek Community Association
REFRESH-INTERVAL;VALUE=DURATION:PT1H
X-Robots-Tag:noindex
X-PUBLISHED-TTL:PT1H
BEGIN:VTIMEZONE
TZID:America/Toronto
BEGIN:DAYLIGHT
TZOFFSETFROM:-0500
TZOFFSETTO:-0400
TZNAME:EDT
DTSTART:20240310T070000
END:DAYLIGHT
BEGIN:STANDARD
TZOFFSETFROM:-0400
TZOFFSETTO:-0500
TZNAME:EST
DTSTART:20241103T060000
END:STANDARD
BEGIN:DAYLIGHT
TZOFFSETFROM:-0500
TZOFFSETTO:-0400
TZNAME:EDT
DTSTART:20250309T070000
END:DAYLIGHT
BEGIN:STANDARD
TZOFFSETFROM:-0400
TZOFFSETTO:-0500
TZNAME:EST
DTSTART:20251102T060000
END:STANDARD
BEGIN:DAYLIGHT
TZOFFSETFROM:-0500
TZOFFSETTO:-0400
TZNAME:EDT
DTSTART:20260308T070000
END:DAYLIGHT
BEGIN:STANDARD
TZOFFSETFROM:-0400
TZOFFSETTO:-0500
TZNAME:EST
DTSTART:20261101T060000
END:STANDARD
END:VTIMEZONE
BEGIN:VEVENT
DTSTART;TZID=America/Toronto:20250404T130000
DTEND;TZID=America/Toronto:20250404T150000
DTSTAMP:20260422T075836
CREATED:20250227T213938Z
LAST-MODIFIED:20250227T213938Z
UID:671-1743771600-1743778800@myhighlandcreek.org
SUMMARY:TPL Death Café
DESCRIPTION:A Death Café is a gathering of people\, often strangers\, who will drink tea\, have a snack and discuss death together. The aim is to increase the awareness of death with a view to helping people make the most of their lives. Discussions will be in small groups with no agenda\, no objectives and no particular theme. Prepare to hear and tell stories. This is not a grief support or counselling session. The facilitator for this Death Café is Jacqueline Gignac. \nDeath Cafes are a global movement. To learn more\, visit the Death Café website. \nSpace is limited\, please visit or call the Highland Creek Branch at 416-396-8876 to register. \nToronto Public Library is committed to accessibility. Please call or email us if you are Deaf or have a disability and would like to request an accommodation to participate in this program. Please let us know as far in advance as possible\, and we will do our best to meet your request. At least three weeks’ notice is preferred. Phone 416-393-7099 or email accessibleservices@tpl.ca
URL:https://myhighlandcreek.org/event/tpl-death-cafe/
LOCATION:Toronto Public Library – Highland Creek Branch\, 3550 Ellesmere Rd\, Scarborough\, Ontario\, M1C 3Z2\, Canada
CATEGORIES:Toronto Public Library
ATTACH;FMTTYPE=image/png:https://myhighlandcreek.org/wp-content/uploads/2025/02/Death-Cafe.png
END:VEVENT
BEGIN:VEVENT
DTSTART;TZID=America/Toronto:20250405T103000
DTEND;TZID=America/Toronto:20250405T113000
DTSTAMP:20260422T075836
CREATED:20250227T213614Z
LAST-MODIFIED:20250227T213614Z
UID:656-1743849000-1743852600@myhighlandcreek.org
SUMMARY:TPL Literary Loopers
DESCRIPTION:Join us on the 1st Saturday of each month and knit or crochet with a friendly group! You can also share your projects and exchange helpful tips and techniques with others! Whether you’re new to knitting\, crocheting or an experienced crafter\, bring your work and join us for a relaxing time of creativity and conversation. All skill levels are welcome and must bring your own needles\, crochet hooks and yarn. \n**Note this is not a program where formal instructions are given** \nNo registration required\, just drop-in.
URL:https://myhighlandcreek.org/event/tpl-literary-loopers/
LOCATION:Toronto Public Library – Highland Creek Branch\, 3550 Ellesmere Rd\, Scarborough\, Ontario\, M1C 3Z2\, Canada
CATEGORIES:Creative,Toronto Public Library
ATTACH;FMTTYPE=image/jpeg:https://myhighlandcreek.org/wp-content/uploads/2025/02/literary-loopers.jpg
END:VEVENT
BEGIN:VEVENT
DTSTART;TZID=America/Toronto:20250426T110000
DTEND;TZID=America/Toronto:20250426T120000
DTSTAMP:20260422T075836
CREATED:20250227T212514Z
LAST-MODIFIED:20250417T192119Z
UID:646-1745665200-1745668800@myhighlandcreek.org
SUMMARY:Pokemon Club at the TPL
DESCRIPTION:Come take part in a fun scavenger hunt across the library. Engage with staff and find out where all your favourite pokemon are hiding. \nSuccessful scavengers will get to choose one pokemon card to take home with them. (One card per child) \nColouring pages\, and 3D Printing technology will be on display as well.
URL:https://myhighlandcreek.org/event/pokemon-club-at-the-tpl/
LOCATION:Toronto Public Library – Highland Creek Branch\, 3550 Ellesmere Rd\, Scarborough\, Ontario\, M1C 3Z2\, Canada
CATEGORIES:Kids,Toronto Public Library
ATTACH;FMTTYPE=image/jpeg:https://myhighlandcreek.org/wp-content/uploads/2025/02/pokemon-card-scaled.jpg
END:VEVENT
END:VCALENDAR