BEGIN:VCALENDAR
VERSION:2.0
PRODID:-//Highland Creek Community Association - ECPv6.15.13.1//NONSGML v1.0//EN
CALSCALE:GREGORIAN
METHOD:PUBLISH
X-ORIGINAL-URL:https://myhighlandcreek.org
X-WR-CALDESC:Events for Highland Creek Community Association
REFRESH-INTERVAL;VALUE=DURATION:PT1H
X-Robots-Tag:noindex
X-PUBLISHED-TTL:PT1H
BEGIN:VTIMEZONE
TZID:America/Toronto
BEGIN:DAYLIGHT
TZOFFSETFROM:-0500
TZOFFSETTO:-0400
TZNAME:EDT
DTSTART:20240310T070000
END:DAYLIGHT
BEGIN:STANDARD
TZOFFSETFROM:-0400
TZOFFSETTO:-0500
TZNAME:EST
DTSTART:20241103T060000
END:STANDARD
BEGIN:DAYLIGHT
TZOFFSETFROM:-0500
TZOFFSETTO:-0400
TZNAME:EDT
DTSTART:20250309T070000
END:DAYLIGHT
BEGIN:STANDARD
TZOFFSETFROM:-0400
TZOFFSETTO:-0500
TZNAME:EST
DTSTART:20251102T060000
END:STANDARD
BEGIN:DAYLIGHT
TZOFFSETFROM:-0500
TZOFFSETTO:-0400
TZNAME:EDT
DTSTART:20260308T070000
END:DAYLIGHT
BEGIN:STANDARD
TZOFFSETFROM:-0400
TZOFFSETTO:-0500
TZNAME:EST
DTSTART:20261101T060000
END:STANDARD
END:VTIMEZONE
BEGIN:VEVENT
DTSTART;TZID=America/Toronto:20250311T130000
DTEND;TZID=America/Toronto:20250315T160000
DTSTAMP:20260422T062056
CREATED:20250227T212144Z
LAST-MODIFIED:20250227T212144Z
UID:642-1741698000-1742054400@myhighlandcreek.org
SUMMARY:TPL Dungeons & Dragons Camp
DESCRIPTION:Registration Required. To register\, call the branch at 416-396-8876 or register in person. Registration reserved for children and teens aged 10-16. \nParticipants will be introduced to the wonders of Dungeons and Dragons and its high-fantasy setting of Faerun. \nThe camp will be structured into four distinctive days (1-4pm each day). \nTuesday March 11: Participants will learn the basics of Dungeons and Dragons. Participants will play through a beginner friendly mission using a series of pre-generated characters. Teamwork and Creative thinking will be heavily encouraged. \nWednesday March 12: Participants will craft their own characters\, and be introduced to 3D Printing and how they can get access to the technology. \nThursday March 13: Participants will get to relax and talk about their characters\, potentially creating some lore and backstory. All the while learning how to paint 3D Printed Miniatures. \nSaturday March 15: Participants will get one final chance to playthrough another mission\, this time using the characters they created during previous sessions and their miniature.
URL:https://myhighlandcreek.org/event/tpl-dungeons-dragons-camp/
LOCATION:Toronto Public Library – Highland Creek Branch\, 3550 Ellesmere Rd\, Scarborough\, Ontario\, M1C 3Z2\, Canada
CATEGORIES:Toronto Public Library
ATTACH;FMTTYPE=image/gif:https://myhighlandcreek.org/wp-content/uploads/2025/02/march-break.gif
END:VEVENT
BEGIN:VEVENT
DTSTART;TZID=America/Toronto:20250325T180000
DTEND;TZID=America/Toronto:20250325T200000
DTSTAMP:20260422T062056
CREATED:20250227T212313Z
LAST-MODIFIED:20250227T212313Z
UID:645-1742925600-1742932800@myhighlandcreek.org
SUMMARY:The Quiet Year: A Map Making Role Playing Game
DESCRIPTION:Tue. Mar. 25\, 2025\n6:00 p.m. – 8:00 p.m.\n120 mins \nJoin us for Tabletop Tuesdays at the Highland Creek Library! \nThe Quiet Year is a role playing game where you aren?t playing as a specific character\, but are instead simulating a year in a community rebuilding after the collapse of civilization. Represent your decisions on a jointly drawn map\, this is a calm\, low stakes introduction to world building in role playing games. \nNo prior experience is required. Everyone is welcome with the understanding that this will be an adult learning environment. \nRegistration required. Ask in person or call the branch at 416-396-8876.
URL:https://myhighlandcreek.org/event/the-quiet-year-a-map-making-role-playing-game/
LOCATION:Toronto Public Library – Highland Creek Branch\, 3550 Ellesmere Rd\, Scarborough\, Ontario\, M1C 3Z2\, Canada
CATEGORIES:Toronto Public Library
ATTACH;FMTTYPE=image/jpeg:https://myhighlandcreek.org/wp-content/uploads/2025/02/Game-Night.jpg
END:VEVENT
END:VCALENDAR