BEGIN:VCALENDAR
VERSION:2.0
PRODID:-//Highland Creek Community Association - ECPv6.15.13.1//NONSGML v1.0//EN
CALSCALE:GREGORIAN
METHOD:PUBLISH
X-ORIGINAL-URL:https://myhighlandcreek.org
X-WR-CALDESC:Events for Highland Creek Community Association
REFRESH-INTERVAL;VALUE=DURATION:PT1H
X-Robots-Tag:noindex
X-PUBLISHED-TTL:PT1H
BEGIN:VTIMEZONE
TZID:America/Toronto
BEGIN:DAYLIGHT
TZOFFSETFROM:-0500
TZOFFSETTO:-0400
TZNAME:EDT
DTSTART:20240310T070000
END:DAYLIGHT
BEGIN:STANDARD
TZOFFSETFROM:-0400
TZOFFSETTO:-0500
TZNAME:EST
DTSTART:20241103T060000
END:STANDARD
BEGIN:DAYLIGHT
TZOFFSETFROM:-0500
TZOFFSETTO:-0400
TZNAME:EDT
DTSTART:20250309T070000
END:DAYLIGHT
BEGIN:STANDARD
TZOFFSETFROM:-0400
TZOFFSETTO:-0500
TZNAME:EST
DTSTART:20251102T060000
END:STANDARD
BEGIN:DAYLIGHT
TZOFFSETFROM:-0500
TZOFFSETTO:-0400
TZNAME:EDT
DTSTART:20260308T070000
END:DAYLIGHT
BEGIN:STANDARD
TZOFFSETFROM:-0400
TZOFFSETTO:-0500
TZNAME:EST
DTSTART:20261101T060000
END:STANDARD
END:VTIMEZONE
BEGIN:VEVENT
DTSTART;TZID=America/Toronto:20250201T140000
DTEND;TZID=America/Toronto:20250201T150000
DTSTAMP:20260422T080215
CREATED:20250112T181953Z
LAST-MODIFIED:20250112T181953Z
UID:587-1738418400-1738422000@myhighlandcreek.org
SUMMARY:Launch Your Business in Canada as a Newcomer
DESCRIPTION:Starting a business in a new country can feel overwhelming\, but it doesn’t have to be! In this interactive workshop\, learn from a fellow entrepreneur about practical first steps to launch your Canadian business. \nJoin Hafsa Taher as she covers everything from basic setup and finding your first customers to connecting with the right communities and resources. You’ll leave with a clear action plan\, useful tools\, and knowledge about free resources specifically available for newcomer entrepreneurs. Generously donated by Scotiabank. \nSpace is limited\, please visit or call the Highland Creek Branch at 416-396-8876 to register.
URL:https://myhighlandcreek.org/event/launch-your-business-in-canada-as-a-newcomer/
LOCATION:Toronto Public Library – Highland Creek Branch\, 3550 Ellesmere Rd\, Scarborough\, Ontario\, M1C 3Z2\, Canada
CATEGORIES:Toronto Public Library
ATTACH;FMTTYPE=image/jpeg:https://myhighlandcreek.org/wp-content/uploads/2025/01/Small-Business.jpg
END:VEVENT
BEGIN:VEVENT
DTSTART;TZID=America/Toronto:20250215T140000
DTEND;TZID=America/Toronto:20250215T150000
DTSTAMP:20260422T080215
CREATED:20250112T182132Z
LAST-MODIFIED:20250112T182139Z
UID:588-1739628000-1739631600@myhighlandcreek.org
SUMMARY:Diversity & Inclusion with Njoroge Mungai
DESCRIPTION:Join Njoroge Mungai\, author and founder of Upendo Books Ltd. as he discusses the remarkable youths featured in his incredible publication\, Diversity & Inclusion. These young leaders are inventors\, artists\, business titans\, mental health advocates\, stock market investing experts\, and STEM superstars from diverse communities. \nAs a bonus for attending the event\, Njoroge will teach you to play Mancala\, an ancient strategy game that was developed in Africa over 3\,000 years ago. \nCome and celebrate Diversity\, Inclusion\, Equity\, and Belonging with us! Space is limited\, please visit or call the Highland Creek Branch at 416-396-8876 to registe
URL:https://myhighlandcreek.org/event/diversity-inclusion-with-njoroge-mungai/
LOCATION:Toronto Public Library – Highland Creek Branch\, 3550 Ellesmere Rd\, Scarborough\, Ontario\, M1C 3Z2\, Canada
CATEGORIES:Toronto Public Library
ATTACH;FMTTYPE=image/jpeg:https://myhighlandcreek.org/wp-content/uploads/2025/01/Diversity-Inclusion-with-Njoroge-Mungai.jpg
END:VEVENT
BEGIN:VEVENT
DTSTART;TZID=America/Toronto:20250227T080000
DTEND;TZID=America/Toronto:20250227T170000
DTSTAMP:20260422T080215
CREATED:20250227T213030Z
LAST-MODIFIED:20250227T213030Z
UID:653-1740643200-1740675600@myhighlandcreek.org
SUMMARY:Introduction to Cross-Stitch Workshop
DESCRIPTION:Come stitch back and relax with Yen at YH Cross Stitch Designs. We will learn how to do counted cross stitch on fabric with a beginner-friendly original design from her collection that includes nature\, floral\, book\, and food & beverage designs. Participants will receive a wooden embroidery hoop\, AIDA fabric\, needle\, thread\, instruction booklet\, and pattern design to start their project and complete at home. \nRegistration is required. Please visit or call the Highland Creek Branch at 416-396-8876. \nIf you live with a disability\, and requires an accessibility accommodation to participate in this program\, please contact Accessibility Services by email\, accessibleservices@tpl.ca\, or voicemail\, 416-393-7099\, to make a request. Please contact us at least three weeks in advance.
URL:https://myhighlandcreek.org/event/introduction-to-cross-stitch-workshop/
LOCATION:Toronto Public Library – Highland Creek Branch\, 3550 Ellesmere Rd\, Scarborough\, Ontario\, M1C 3Z2\, Canada
CATEGORIES:Creative,Toronto Public Library
ATTACH;FMTTYPE=image/jpeg:https://myhighlandcreek.org/wp-content/uploads/2025/02/cross-stitch.jpg
END:VEVENT
END:VCALENDAR