BEGIN:VCALENDAR
VERSION:2.0
PRODID:-//Highland Creek Community Association - ECPv6.15.13.1//NONSGML v1.0//EN
CALSCALE:GREGORIAN
METHOD:PUBLISH
X-ORIGINAL-URL:https://myhighlandcreek.org
X-WR-CALDESC:Events for Highland Creek Community Association
REFRESH-INTERVAL;VALUE=DURATION:PT1H
X-Robots-Tag:noindex
X-PUBLISHED-TTL:PT1H
BEGIN:VTIMEZONE
TZID:America/Toronto
BEGIN:DAYLIGHT
TZOFFSETFROM:-0500
TZOFFSETTO:-0400
TZNAME:EDT
DTSTART:20230312T070000
END:DAYLIGHT
BEGIN:STANDARD
TZOFFSETFROM:-0400
TZOFFSETTO:-0500
TZNAME:EST
DTSTART:20231105T060000
END:STANDARD
BEGIN:DAYLIGHT
TZOFFSETFROM:-0500
TZOFFSETTO:-0400
TZNAME:EDT
DTSTART:20240310T070000
END:DAYLIGHT
BEGIN:STANDARD
TZOFFSETFROM:-0400
TZOFFSETTO:-0500
TZNAME:EST
DTSTART:20241103T060000
END:STANDARD
BEGIN:DAYLIGHT
TZOFFSETFROM:-0500
TZOFFSETTO:-0400
TZNAME:EDT
DTSTART:20250309T070000
END:DAYLIGHT
BEGIN:STANDARD
TZOFFSETFROM:-0400
TZOFFSETTO:-0500
TZNAME:EST
DTSTART:20251102T060000
END:STANDARD
END:VTIMEZONE
BEGIN:VEVENT
DTSTART;TZID=America/Toronto:20241214T100000
DTEND;TZID=America/Toronto:20241214T150000
DTSTAMP:20260422T133300
CREATED:20240405T205453Z
LAST-MODIFIED:20240405T205516Z
UID:191-1734170400-1734188400@myhighlandcreek.org
SUMMARY:Repair Cafe
DESCRIPTION:Learn how to fix your broken household items for free! \nFixers for home electronics\, small appliances\, general housewares\, clothing and toys! \nFor more information\, email portunionrepaircafe@gmail.com
URL:https://myhighlandcreek.org/event/repair-cafe-7/
LOCATION:Port Union Community Recreation Centre\, 5450 Lawrence Ave E\, Scarborough\, Ontario\, M1C 3B2\, Canada
CATEGORIES:2024,Repair Cafe
ATTACH;FMTTYPE=image/jpeg:https://myhighlandcreek.org/wp-content/uploads/2024/04/Repair-Cafe.jpg
ORGANIZER;CN="Repair Cafe Toronto":MAILTO:info@repaircafetoronto.ca
END:VEVENT
END:VCALENDAR