BEGIN:VCALENDAR
VERSION:2.0
PRODID:-//Highland Creek Community Association - ECPv6.15.13.1//NONSGML v1.0//EN
CALSCALE:GREGORIAN
METHOD:PUBLISH
X-WR-CALNAME:Highland Creek Community Association
X-ORIGINAL-URL:https://myhighlandcreek.org
X-WR-CALDESC:Events for Highland Creek Community Association
REFRESH-INTERVAL;VALUE=DURATION:PT1H
X-Robots-Tag:noindex
X-PUBLISHED-TTL:PT1H
BEGIN:VTIMEZONE
TZID:America/Toronto
BEGIN:DAYLIGHT
TZOFFSETFROM:-0500
TZOFFSETTO:-0400
TZNAME:EDT
DTSTART:20240310T070000
END:DAYLIGHT
BEGIN:STANDARD
TZOFFSETFROM:-0400
TZOFFSETTO:-0500
TZNAME:EST
DTSTART:20241103T060000
END:STANDARD
BEGIN:DAYLIGHT
TZOFFSETFROM:-0500
TZOFFSETTO:-0400
TZNAME:EDT
DTSTART:20250309T070000
END:DAYLIGHT
BEGIN:STANDARD
TZOFFSETFROM:-0400
TZOFFSETTO:-0500
TZNAME:EST
DTSTART:20251102T060000
END:STANDARD
BEGIN:DAYLIGHT
TZOFFSETFROM:-0500
TZOFFSETTO:-0400
TZNAME:EDT
DTSTART:20260308T070000
END:DAYLIGHT
BEGIN:STANDARD
TZOFFSETFROM:-0400
TZOFFSETTO:-0500
TZNAME:EST
DTSTART:20261101T060000
END:STANDARD
END:VTIMEZONE
BEGIN:VEVENT
DTSTART;TZID=America/Toronto:20250514T180000
DTEND;TZID=America/Toronto:20250514T200000
DTSTAMP:20260423T055003
CREATED:20240405T032448Z
LAST-MODIFIED:20250423T160034Z
UID:128-1747245600-1747252800@myhighlandcreek.org
SUMMARY:HCCA Monthly Board Meeting
DESCRIPTION:
URL:https://myhighlandcreek.org/event/hcca-monthly-board-meeting/
LOCATION:Royal Canadian Legion\, 305 Morrish Rd\, Scarborough\, Ontario\, M1C 1E9\, Canada
CATEGORIES:2024,Board Meeting
ATTACH;FMTTYPE=image/jpeg:https://myhighlandcreek.org/wp-content/uploads/2024/03/Logo.jpg
ORGANIZER;CN="HCCA":MAILTO:myhighlandcreekcommunity@gmail.com
END:VEVENT
END:VCALENDAR